BEGIN:VCALENDAR
PRODID:-//AT Content Types//AT Event//EN
VERSION:1.0
BEGIN:VEVENT
DTSTART:19920109T000000Z
DTEND:20061231T000000Z
DCREATED:20110305T193122Z
UID:ATEvent-af43baa546e0bcfb9b29cddc2004391c
SEQUENCE:0
LAST-MODIFIED:20110305T193253Z
SUMMARY:Ultralab
DESCRIPTION:Ultralab was the learning technology research centre at An
 glia Ruskin University in Chelmsford\, Essex from 1992 through to 2006
 
PRIORITY:3
TRANSP:0
END:VEVENT
END:VCALENDAR
