BEGIN:VCALENDAR
PRODID:-//AT Content Types//AT Event//EN
VERSION:2.0
METHOD:PUBLISH
BEGIN:VEVENT
DTSTAMP:20260420T105808Z
CREATED:20110305T193126Z
UID:ATEvent-5befb5d8f03a3475f3f08db0673cc34b
LAST-MODIFIED:20110305T193936Z
SUMMARY:Towards a Unified e-Learning Strategy Consultation
DTSTART:20030107T000000Z
DTEND:20030107T000000Z
DESCRIPTION:DfES (Dept for Education and Skills) launched Towards a Un
 ified e-Learning Strategy Consultation in July 2003. Strategy focussed
  on making sure the benefits of e-learning are universally available. 
 Outlines the long-term strategy\, rather than quick fix\, of how e-lea
 rning might improve the learning experience.
URL:http://www.dcsf.gov.uk/consultations/downloadableDocs/towards%20a%20unified%20e-learning%20strategy.pdf
CLASS:PUBLIC
END:VEVENT
END:VCALENDAR
