BEGIN:VCALENDAR
PRODID:-//AT Content Types//AT Event//EN
VERSION:2.0
METHOD:PUBLISH
BEGIN:VEVENT
DTSTAMP:20260421T090428Z
CREATED:20110305T193122Z
UID:ATEvent-b829bcd146bc7b1e9b9c29978f50e64b
LAST-MODIFIED:20110305T193253Z
SUMMARY:The Teaching and Learning Technology Programme
DTSTART:19920109T000000Z
DTEND:19920109T000000Z
DESCRIPTION:The Teaching and Learning Technology Programme (TLTP) was 
 jointly funded by the four higher education funding bodies\, HEFCE\, S
 HEFC\, HEFCW and DENI\, who allocated 22.5 million pounds over three y
 ears\, starting in 1992-93\, for the first phase of the programme and 
 11.25 million pounds for the second at a time when the sector was expe
 riencing a period of rapid expansion. Added to the funding bodies' own
  commitment of 33 million pounds was the direct and indirect contribut
 ions made by institutions to the projectsthey hosted. The overall fund
 ing for TLTP was somewhere in the region of 75 million pounds.TLTP was
  launched with the aim of achieving productivity and efficiency gains 
 whilst maintaining and improving quality in the provision of teaching 
 and learning. Challenges had arisen in the form of increasing pressure
  on resource and the demand for high quality teaching and learning fro
 m what was fast becoming a large and extremely diverse student populat
 ion.
URL:national-archive/organisations/the-teaching-and-learning-technology-programme
CLASS:PUBLIC
END:VEVENT
END:VCALENDAR
