BEGIN:VCALENDAR
PRODID:-//AT Content Types//AT Event//EN
VERSION:2.0
METHOD:PUBLISH
BEGIN:VEVENT
DTSTAMP:20260420T105659Z
CREATED:20110305T193118Z
UID:ATEvent-469a7a6c340ba2bae686e26350e36f91
LAST-MODIFIED:20110305T193251Z
SUMMARY:The Silicon Factor BBC TV pogramme
DTSTART:19800101T000000Z
DTEND:19800101T000000Z
DESCRIPTION:BBC broadcast short series The Silicon Factor\, 3 document
 ary programmes examining the applications of the new micro-chip techno
 logy and exploring its social and economic impact
CLASS:PUBLIC
END:VEVENT
END:VCALENDAR
