BEGIN:VCALENDAR
PRODID:-//AT Content Types//AT Event//EN
VERSION:2.0
METHOD:PUBLISH
BEGIN:VEVENT
DTSTAMP:20260422T112109Z
CREATED:20110305T193127Z
UID:ATEvent-08cd60be3528c7e6781baac3e9a1d1a0
LAST-MODIFIED:20110305T193937Z
SUMMARY:Teachers TV
DTSTART:20050801T230000Z
DTEND:20050801T230000Z
DESCRIPTION:Teachers TV launched on 8th February 2005 funded by DES (D
 ept for Education and Skills). There was a scheme whereby schools/educ
 ational institutions and those who worked in schools in England could 
 obtain free\, Freeview decoders from Comet\, and subsidised satellite/
 cable kits from a variety of providers
URL:http://www.teachers.tv/
CLASS:PUBLIC
END:VEVENT
END:VCALENDAR
