BEGIN:VCALENDAR
PRODID:-//AT Content Types//AT Event//EN
VERSION:1.0
BEGIN:VEVENT
DTSTART:19950104T000000Z
DTEND:19950104T000000Z
DCREATED:20110305T193123Z
UID:ATEvent-94d1df8e834247b52854beaf50195628
SEQUENCE:0
LAST-MODIFIED:20110305T193254Z
SUMMARY:Superhighways for Education Consultation
DESCRIPTION:Superhighways for Education consultation launched in April
  1995. Education Secretary Gillian Shephard had announced the consulta
 tion on 11th January in her speech at BETT 95
PRIORITY:3
TRANSP:0
END:VEVENT
END:VCALENDAR
