BEGIN:VCALENDAR
PRODID:-//AT Content Types//AT Event//EN
VERSION:2.0
METHOD:PUBLISH
BEGIN:VEVENT
DTSTAMP:20260420T091823Z
CREATED:20110305T193124Z
UID:ATEvent-0902aa2a915db83b2ec03b17944c5779
LAST-MODIFIED:20110305T193254Z
SUMMARY:Summer Numeracy Schools
DTSTART:19980101T000000Z
DTEND:19980101T000000Z
DESCRIPTION:Stephen Byers\, School Standards Minister announced on 6th
  June £500K to establish 51 pilot Summer Numeracy Schools in England 
 (doc 293/98)
CLASS:PUBLIC
END:VEVENT
END:VCALENDAR
