BEGIN:VCALENDAR
PRODID:-//AT Content Types//AT Event//EN
VERSION:2.0
METHOD:PUBLISH
BEGIN:VEVENT
DTSTAMP:20260421T110615Z
CREATED:20110305T193125Z
UID:ATEvent-fdfbc377f0798fcd725364e64e87443d
LAST-MODIFIED:20110305T193935Z
SUMMARY:Recruitment and funding of teaching assistants
DTSTART:20010319T000000Z
DTEND:20010319T000000Z
DESCRIPTION:David Blunkett announced £400m of funding to continue to 
 fund the recruitment and training of teaching assistants for 02/03 and
  03/04 (19.3.01)
CLASS:PUBLIC
END:VEVENT
END:VCALENDAR
