BEGIN:VCALENDAR
PRODID:-//AT Content Types//AT Event//EN
VERSION:1.0
BEGIN:VEVENT
DTSTART:19950101T000000Z
DTEND:19950101T000000Z
DCREATED:20110305T193123Z
UID:ATEvent-5dcfdc820d3eb00f5c331a0739f1598f
SEQUENCE:0
LAST-MODIFIED:20110305T193254Z
SUMMARY:QCA Scheme of Work for ICT published
DESCRIPTION:QCA Scheme of Work for ICT published
PRIORITY:3
TRANSP:0
END:VEVENT
END:VCALENDAR
