BEGIN:VCALENDAR
PRODID:-//AT Content Types//AT Event//EN
VERSION:2.0
METHOD:PUBLISH
BEGIN:VEVENT
DTSTAMP:20260422T112842Z
CREATED:20110305T193127Z
UID:ATEvent-9ae8a208b450647ecf3d83cf41f8bea6
LAST-MODIFIED:20110305T193936Z
SUMMARY:Primary Strategy
DTSTART:20040101T000000Z
DTEND:20040101T000000Z
DESCRIPTION:Standards Fund 615 (DfES Doc 0098/04) - to provide a lapto
 p for each Primary Strategy Consultant whose role was to develop effec
 tive use of ICT across the primary curriculum
CLASS:PUBLIC
END:VEVENT
END:VCALENDAR
