BEGIN:VCALENDAR
PRODID:-//AT Content Types//AT Event//EN
VERSION:1.0
BEGIN:VEVENT
DTSTART:20020101T000000Z
DTEND:20020101T000000Z
DCREATED:20110305T193126Z
UID:ATEvent-aaf0ef2d045664cf85f967cca8e4c9a3
SEQUENCE:0
LAST-MODIFIED:20110305T193935Z
SUMMARY:Primary Interactive Whiteboard project
DESCRIPTION:National Primary Interactive Whiteboard project involved 6
  LEAs who received £476K each to develop the use of IWB in Years 5 an
 d 6 in primary schools
PRIORITY:3
TRANSP:0
END:VEVENT
END:VCALENDAR
