BEGIN:VCALENDAR
PRODID:-//AT Content Types//AT Event//EN
VERSION:1.0
BEGIN:VEVENT
DTSTART:19930120T000000Z
DTEND:19930120T000000Z
DCREATED:20110305T193122Z
UID:ATEvent-6349381b0c220cfd11bb5798dc399874
SEQUENCE:0
LAST-MODIFIED:20110305T193253Z
SUMMARY:Portables in schools and ITT project
DESCRIPTION:Dept of Ed announces 20th January £1.05m for trialling of
  portable computers in primary\, secondary schools and teacher trainin
 g organizations in England NCET will manage the project
PRIORITY:3
TRANSP:0
END:VEVENT
END:VCALENDAR
