BEGIN:VCALENDAR
PRODID:-//AT Content Types//AT Event//EN
VERSION:2.0
METHOD:PUBLISH
BEGIN:VEVENT
DTSTAMP:20260420T091200Z
CREATED:20110305T193127Z
UID:ATEvent-b13359aebc5a3bb9fa219e35977f0a44
LAST-MODIFIED:20110305T193936Z
SUMMARY:Personalised Learning
DTSTART:20040731T230000Z
DTEND:20040731T230000Z
DESCRIPTION:David Miliband\, Minister of State for School Standards de
 livers a speech on Personalised Learning to the North of England Educa
 tion Conference on 8th January 2004. He identified 5 processes which l
 ead to achieving excellence and equity\, namely Assessment for Learnin
 g\, a range of teaching techniques\, curriculum choice\, organisation 
 of a school and links to services beyond the classroom
URL:Hardcopy available
CLASS:PUBLIC
END:VEVENT
END:VCALENDAR
