BEGIN:VCALENDAR
PRODID:-//AT Content Types//AT Event//EN
VERSION:2.0
METHOD:PUBLISH
BEGIN:VEVENT
DTSTAMP:20260420T105325Z
CREATED:20110305T193124Z
UID:ATEvent-15dbda3476ad7c5197b97ada328ab78a
LAST-MODIFIED:20110305T193934Z
SUMMARY:Our Information Age
DTSTART:19980104T000000Z
DTEND:19980104T000000Z
DESCRIPTION:Our Information Age - the government's vision published by
  Central Office of Information (COI) in April 1998. Referred to in Han
 sard May 1998 in reply to question on electronic commerce. This docume
 nt included mention of People's Network (Libraries) and other ICT init
 iatives especially those relating to telecommunications and electronic
  networks
CLASS:PUBLIC
END:VEVENT
END:VCALENDAR
