BEGIN:VCALENDAR
PRODID:-//AT Content Types//AT Event//EN
VERSION:1.0
BEGIN:VEVENT
DTSTART:19860101T000000Z
DTEND:19891231T000000Z
DCREATED:20110305T193121Z
UID:ATEvent-4839ea4e3d401ee297a71b2c1ee5a5f7
SEQUENCE:0
LAST-MODIFIED:20110305T193252Z
SUMMARY:NERIS
DESCRIPTION:DTI funds NERIS\, an electronic database of all National C
 urriculum attainment targets\, statements of attainment and programmes
  of study 1986-9 £3m
PRIORITY:3
TRANSP:0
END:VEVENT
END:VCALENDAR
