BEGIN:VCALENDAR
PRODID:-//AT Content Types//AT Event//EN
VERSION:1.0
BEGIN:VEVENT
DTSTART:19960103T000000Z
DTEND:19960103T000000Z
DCREATED:20110305T193123Z
UID:ATEvent-07d5f3f1d2c9c888731bfebd4f50cda0
SEQUENCE:0
LAST-MODIFIED:20110305T193254Z
SUMMARY:NCET\, IT in Schools\, Superhighways consultation
DESCRIPTION:DfEE in their Departmental Report (March 1996) outline the
 ir expenditure plans 96-97 through to 98-99. Pages 13 -18 cover techno
 logical developments including NCET\, IT in Schools\, Superhighways co
 nsultation
PRIORITY:3
TRANSP:0
END:VEVENT
END:VCALENDAR
