BEGIN:VCALENDAR
PRODID:-//AT Content Types//AT Event//EN
VERSION:2.0
METHOD:PUBLISH
BEGIN:VEVENT
DTSTAMP:20260420T091519Z
CREATED:20110305T193122Z
UID:ATEvent-610b34a822d5885d5d6320b697f4454d
LAST-MODIFIED:20110305T193253Z
SUMMARY:NCC - Mathematics Interactive Video
DTSTART:19900101T000000Z
DTEND:19900101T000000Z
DESCRIPTION:National Curriculum Council fundings Mathematics IV Develo
 pment Project £1.2m
CLASS:PUBLIC
END:VEVENT
END:VCALENDAR
