BEGIN:VCALENDAR
PRODID:-//AT Content Types//AT Event//EN
VERSION:1.0
BEGIN:VEVENT
DTSTART:19900101T000000Z
DTEND:19900101T000000Z
DCREATED:20110305T193122Z
UID:ATEvent-72de4ed1fdb32fda0ca64011f94fa8e1
SEQUENCE:0
LAST-MODIFIED:20110305T193253Z
SUMMARY:Multimedia PCs
DESCRIPTION:Multimedia PCs available
PRIORITY:3
TRANSP:0
END:VEVENT
END:VCALENDAR
