BEGIN:VCALENDAR
PRODID:-//AT Content Types//AT Event//EN
VERSION:2.0
METHOD:PUBLISH
BEGIN:VEVENT
DTSTAMP:20260420T091659Z
CREATED:20110305T193124Z
UID:ATEvent-d634549102f13ded632e10e3fb2174bd
LAST-MODIFIED:20110305T193254Z
SUMMARY:Multimedia computers for teachers
DTSTART:19980101T000000Z
DTEND:19980101T000000Z
DESCRIPTION:David Blunkett\, Secretary of State for Education and Empl
 oyment announced £23m funding for multimedia computers for teachers. 
 Becta was given responsibility for managing the initiative
CLASS:PUBLIC
END:VEVENT
END:VCALENDAR
