BEGIN:VCALENDAR
PRODID:-//AT Content Types//AT Event//EN
VERSION:1.0
BEGIN:VEVENT
DTSTART:19820101T000000Z
DTEND:19820101T000000Z
DCREATED:20110305T193118Z
UID:ATEvent-1ff5541e6b21b4c960f9af36ff21b103
SEQUENCE:0
LAST-MODIFIED:20110305T193251Z
SUMMARY:MEP Primary
DESCRIPTION:MEP work extended to include primary education
PRIORITY:3
TRANSP:0
END:VEVENT
END:VCALENDAR
