BEGIN:VCALENDAR
PRODID:-//AT Content Types//AT Event//EN
VERSION:2.0
METHOD:PUBLISH
BEGIN:VEVENT
DTSTAMP:20260420T092252Z
CREATED:20110305T193124Z
UID:ATEvent-5de791c83a0eed7d4257fc7a0ab2f3f6
LAST-MODIFIED:20110305T193934Z
SUMMARY:Meeting the Challenge of Change - tests for trainee teachers
DTSTART:19980112T000000Z
DTEND:19980112T000000Z
DESCRIPTION:In December 1998 Green Paper Teachers - meeting the challe
 nge of change was presented to parliament. This document announced pla
 ns to introduce new national tests for all trainee teachers in numerac
 y\, literacy and ICT. Mention is made of increasing the number of clas
 sroom assistants and how ICT can reduce the administrative burden on c
 lassroom teachers
URL:http://www.teachernet.gov.uk/-doc/1424/intro.pdf
CLASS:PUBLIC
END:VEVENT
END:VCALENDAR
