BEGIN:VCALENDAR
PRODID:-//AT Content Types//AT Event//EN
VERSION:2.0
METHOD:PUBLISH
BEGIN:VEVENT
DTSTAMP:20260420T103654Z
CREATED:20110305T193128Z
UID:ATEvent-131be0bcc30d931410c355081d9ec404
LAST-MODIFIED:20110305T193937Z
SUMMARY:Laptops and PDAs for Social Care Workforce
DTSTART:20070325T230000Z
DTEND:20070325T230000Z
DESCRIPTION:Children's Minister Parmjit Dhanda announces £13m to help
  pay for laptops and PDAs for social care workforce. Press release 200
 7/0054 26th March 2007 refers
CLASS:PUBLIC
END:VEVENT
END:VCALENDAR
