BEGIN:VCALENDAR
PRODID:-//AT Content Types//AT Event//EN
VERSION:2.0
METHOD:PUBLISH
BEGIN:VEVENT
DTSTAMP:20260420T110701Z
CREATED:20110305T193126Z
UID:ATEvent-e1b03ebc9354f8eb3000c7fe40794443
LAST-MODIFIED:20110305T193936Z
SUMMARY:Inner London schools to become specialist schools
DTSTART:20031113T000000Z
DTEND:20031113T000000Z
DESCRIPTION:Tony Blair's London Schools speech on 13th November 2003 o
 utlined plans for each school in each of 5 London boroughs (Lambeth\, 
 Southwark\, Haringey\, Hackney and Islington). He stated that all seco
 ndary schools will become a specialist school over the next 3 years\, 
 there will be 11 academies\, a further 3 new schools\, every secondary
  school will be offering extending school provision and more choice po
 st-16. He also outlined plans for the rebuilding or significant refurb
 ishment of every secondary school in the 5 boroughs
CLASS:PUBLIC
END:VEVENT
END:VCALENDAR
