BEGIN:VCALENDAR
PRODID:-//AT Content Types//AT Event//EN
VERSION:2.0
METHOD:PUBLISH
BEGIN:VEVENT
DTSTAMP:20260420T105706Z
CREATED:20110305T193127Z
UID:ATEvent-287693e3cab29503d9fc7691d6e6e929
LAST-MODIFIED:20110305T193937Z
SUMMARY:Infrastructure\, Broadband Connectivity and E-Learning Credits
DTSTART:20050101T000000Z
DTEND:20050101T000000Z
DESCRIPTION:Standards Fund Grant 05/06 directed schools to spend Grant
  31A on Infrastructure (PCs etc) and Hands on Support Grant 31b on Bro
 adband Connectivity (Target 2mb for Primary and 8Mbs for Secondary)\, 
 and Grant 31C on E-Learning Credits which was £100m
CLASS:PUBLIC
END:VEVENT
END:VCALENDAR
