BEGIN:VCALENDAR
PRODID:-//AT Content Types//AT Event//EN
VERSION:2.0
METHOD:PUBLISH
BEGIN:VEVENT
DTSTAMP:20260420T105028Z
CREATED:20110305T193128Z
UID:ATEvent-9456fd46f0224678d54be59bcfd6ebe8
LAST-MODIFIED:20110305T193937Z
SUMMARY:ictopus founded
DTSTART:20070101T000000Z
DTEND:20070101T000000Z
DESCRIPTION:ictopus (ICT online primary user support) is a free suppor
 t service for primary education. Provides free downloads of primary so
 ftware (many of the titles were produced by MAPE members) a parent's m
 agazine\, and signposting to primary websites
URL:http://www.ictopus.org.uk/ 
CLASS:PUBLIC
END:VEVENT
END:VCALENDAR
