BEGIN:VCALENDAR
PRODID:-//AT Content Types//AT Event//EN
VERSION:2.0
METHOD:PUBLISH
BEGIN:VEVENT
DTSTAMP:20260420T104830Z
CREATED:20110305T193126Z
UID:ATEvent-6f12ab37d2a8f96eadf27efb43b3cfab
LAST-MODIFIED:20110305T193935Z
SUMMARY:Hands on Support Programme
DTSTART:20020101T000000Z
DTEND:20020101T000000Z
DESCRIPTION:Hands on Support Programme to provide IT training for teac
 hers in their own classrooms
CLASS:PUBLIC
END:VEVENT
END:VCALENDAR
