BEGIN:VCALENDAR
PRODID:-//AT Content Types//AT Event//EN
VERSION:1.0
BEGIN:VEVENT
DTSTART:19970107T000000Z
DTEND:19970107T000000Z
DCREATED:20110305T193123Z
UID:ATEvent-ba101f1cb03dbd6d0ebe8c5d912365d5
SEQUENCE:0
LAST-MODIFIED:20110305T193254Z
SUMMARY:GTCE - Teaching: High Status\, High Standards
DESCRIPTION:Teaching: High Status\, High Standards : General Teaching 
 Council (GTC) - a consultation document\, published July 1997 by Depar
 tment for Education and Employment with foreword by Stephen Byers\, Mi
 nister for School Standards. Outlined governments plans to set up the 
 GTC to provide a professional voice for the teaching profession.'
PRIORITY:3
TRANSP:0
END:VEVENT
END:VCALENDAR
