BEGIN:VCALENDAR
PRODID:-//AT Content Types//AT Event//EN
VERSION:1.0
BEGIN:VEVENT
DTSTART:19930101T000000Z
DTEND:19930101T000000Z
DCREATED:20110305T193122Z
UID:ATEvent-22db118bd9ef5faa48c1dcc46a5066c2
SEQUENCE:0
LAST-MODIFIED:20110305T193253Z
SUMMARY:First small computers in schools
DESCRIPTION:Psion Series 3 - Acorn Pocketbook - first small computer i
 n schools
PRIORITY:3
TRANSP:0
END:VEVENT
END:VCALENDAR
