BEGIN:VCALENDAR
PRODID:-//AT Content Types//AT Event//EN
VERSION:2.0
METHOD:PUBLISH
BEGIN:VEVENT
DTSTAMP:20260420T110313Z
CREATED:20110305T193124Z
UID:ATEvent-e98d892aee769a58156d27f71436d783
LAST-MODIFIED:20110305T193934Z
SUMMARY:Excellence in Cities and Education Action Zones
DTSTART:19990311T000000Z
DTEND:19990311T000000Z
DESCRIPTION:David Blunkett\, Secretary of State for Education and Empl
 oyment delivered a speech on 3rd November 1999 outlining government's 
 plans to tackle social exclusion. Mention is made of £350m Excellence
  in Cities programme and Education Action Zone programme. Hardcopy of 
 booklet relating to speech
CLASS:PUBLIC
END:VEVENT
END:VCALENDAR
