BEGIN:VCALENDAR
PRODID:-//AT Content Types//AT Event//EN
VERSION:1.0
BEGIN:VEVENT
DTSTART:19940101T000000Z
DTEND:19940101T000000Z
DCREATED:20110305T193122Z
UID:ATEvent-2fb0a79eb8f241328046b1cbdfe44e24
SEQUENCE:0
LAST-MODIFIED:20110305T193254Z
SUMMARY:Evaluation of Interactive Video in INSET
DESCRIPTION:£200K pilot scheme to evaluate the effectiveness of Inter
 active Video in the in-service education of teachers
PRIORITY:3
TRANSP:0
END:VEVENT
END:VCALENDAR
