BEGIN:VCALENDAR
PRODID:-//AT Content Types//AT Event//EN
VERSION:2.0
METHOD:PUBLISH
BEGIN:VEVENT
DTSTAMP:20260420T092059Z
CREATED:20110305T193124Z
UID:ATEvent-86b45b2f6f2c30208eac979286e55ccd
LAST-MODIFIED:20110305T193934Z
SUMMARY:Ethnic Minority Achievement Grant
DTSTART:19990908T230000Z
DTEND:19990908T230000Z
DESCRIPTION:Jacqui Smith\, Schools Minister\, announced on 9th Septemb
 er 1999 £146m in 00/01 for LEAs to raise standards of achievement for
  ethnic minority pupils through the Ethnic Minority Achievement Grant 
 Press release
URL:http://www.dcsf.gov.uk/pns/DisplayPN.cgi?pn-id=1999-0405
CLASS:PUBLIC
END:VEVENT
END:VCALENDAR
