BEGIN:VCALENDAR
PRODID:-//AT Content Types//AT Event//EN
VERSION:1.0
BEGIN:VEVENT
DTSTART:20020101T000000Z
DTEND:20051231T000000Z
DCREATED:20110305T193125Z
UID:ATEvent-8286e43e666110a0db87fc13caa326ad
SEQUENCE:0
LAST-MODIFIED:20110305T193935Z
SUMMARY:E-Learning Credits
DESCRIPTION:E-Learning Credits 2002-05 £300m funding (Standards Fund 
 31c) for schools to purchase digital curriculum resources
PRIORITY:3
TRANSP:0
END:VEVENT
END:VCALENDAR
