BEGIN:VCALENDAR
PRODID:-//AT Content Types//AT Event//EN
VERSION:2.0
METHOD:PUBLISH
BEGIN:VEVENT
DTSTAMP:20260422T110002Z
CREATED:20110305T193127Z
UID:ATEvent-ffc03e0544ffc1bf2eeb4e47dea6a6a0
LAST-MODIFIED:20110305T193937Z
SUMMARY:DfES - Harnessing Technology: Transforming Learning and Children's services
DTSTART:20050101T000000Z
DTEND:20050101T000000Z
DESCRIPTION:DfES publishes (March 2005) E-Learning Strategy Harnessi
 ng Technology: Transforming Learning and Children's services. It ident
 ified four key objectives for the use of technology within the educati
 on system
CLASS:PUBLIC
END:VEVENT
END:VCALENDAR
