BEGIN:VCALENDAR
PRODID:-//AT Content Types//AT Event//EN
VERSION:1.0
BEGIN:VEVENT
DTSTART:19920101T000000Z
DTEND:19941231T000000Z
DCREATED:20110305T193122Z
UID:ATEvent-642a096dce25723e72f3737317179bdc
SEQUENCE:0
LAST-MODIFIED:20110305T193253Z
SUMMARY:DES - CD-ROM Development Partnership Scheme
DESCRIPTION:DES funds CD-ROM Development Partnership Scheme £0.7m (19
 92-4)
PRIORITY:3
TRANSP:0
END:VEVENT
END:VCALENDAR
