BEGIN:VCALENDAR
PRODID:-//AT Content Types//AT Event//EN
VERSION:2.0
METHOD:PUBLISH
BEGIN:VEVENT
DTSTAMP:20260420T124611Z
CREATED:20110305T193122Z
UID:ATEvent-1ae5040530597da43259db2278cd7c3f
LAST-MODIFIED:20110305T193253Z
SUMMARY:DES - CD-ROM and Interactive Video schemes
DTSTART:19920101T000000Z
DTEND:19920101T000000Z
DESCRIPTION:DES funds CD-ROM and Interactive Video Schemes £3m
CLASS:PUBLIC
END:VEVENT
END:VCALENDAR
