BEGIN:VCALENDAR
PRODID:-//AT Content Types//AT Event//EN
VERSION:1.0
BEGIN:VEVENT
DTSTART:19990101T000000Z
DTEND:19990101T000000Z
DCREATED:20110305T193124Z
UID:ATEvent-f2994ce07bf50aa8284956f9d1ba497b
SEQUENCE:0
LAST-MODIFIED:20110305T193934Z
SUMMARY:Creating Learning Cultures: Next steps in Achieving the Learning Age
DESCRIPTION:NAGCELL (Nat Advisory Group for Continuing Ed and Lifelong
  Learning) published report Creating Learning Cultures: Next steps in 
 Achieving the Learning Age ISBN 0855119454
PRIORITY:3
TRANSP:0
END:VEVENT
END:VCALENDAR
