BEGIN:VCALENDAR
PRODID:-//AT Content Types//AT Event//EN
VERSION:1.0
BEGIN:VEVENT
DTSTART:20050101T000000Z
DTEND:20050101T000000Z
DCREATED:20110305T193127Z
UID:ATEvent-81af75cbaa6a4a3311f6a27b6410eedf
SEQUENCE:0
LAST-MODIFIED:20110305T193936Z
SUMMARY:Computers for Pupils
DESCRIPTION:Jim Knight launches Computers for Pupils Initiative
PRIORITY:3
TRANSP:0
END:VEVENT
END:VCALENDAR
