BEGIN:VCALENDAR
PRODID:-//AT Content Types//AT Event//EN
VERSION:2.0
METHOD:PUBLISH
BEGIN:VEVENT
DTSTAMP:20260420T091814Z
CREATED:20110305T193118Z
UID:ATEvent-4e5c65fd421e61d178792cf3fa7f5baa
LAST-MODIFIED:20110305T193251Z
SUMMARY:Cockroft Report
DTSTART:19820101T000000Z
DTEND:19820101T000000Z
DESCRIPTION:Cockcroft Report - Mathematics Counts - report on mathemat
 ics education showed that Computer Assisted Learning provided opportun
 ities for discussion\, practical work\, problem solving and investigat
 ory work
CLASS:PUBLIC
END:VEVENT
END:VCALENDAR
