BEGIN:VCALENDAR
PRODID:-//AT Content Types//AT Event//EN
VERSION:2.0
METHOD:PUBLISH
BEGIN:VEVENT
DTSTAMP:20260419T174747Z
CREATED:20110305T193119Z
UID:ATEvent-1dda5544797a8bf54662239b2d925573
LAST-MODIFIED:20110305T193252Z
SUMMARY:Butcher report 1 and 2
DTSTART:19840101T000000Z
DTEND:19840101T000000Z
DESCRIPTION:Butcher report (there were 2 in 1984 ) expresses alarm at 
 the graduate supply shortfall in IT and highlights the need not only f
 or technicians but also for future workforce to have IT skills
CLASS:PUBLIC
END:VEVENT
END:VCALENDAR
