BEGIN:VCALENDAR
PRODID:-//AT Content Types//AT Event//EN
VERSION:2.0
METHOD:PUBLISH
BEGIN:VEVENT
DTSTAMP:20260421T001628Z
CREATED:20110305T193117Z
UID:ATEvent-a8b73d0aba40332b6a19f2d02980b3b4
LAST-MODIFIED:20110305T193251Z
SUMMARY:BBC's Tommorrow's World presents Nellie
DTSTART:19690502T000000Z
DTEND:19690502T000000Z
DESCRIPTION:In 1969\, The BBC's Tomorrow's World shows a computer used
  in school - Nellie - set to revolutionise the classroom.
URL:national-archive/links/bbcs-tommorrows-world-presents-nellie-a-computer-set-to-revolutionise-the-classroom
CLASS:PUBLIC
END:VEVENT
END:VCALENDAR
