BEGIN:VCALENDAR
PRODID:-//AT Content Types//AT Event//EN
VERSION:2.0
METHOD:PUBLISH
BEGIN:VEVENT
DTSTAMP:20260420T091637Z
CREATED:20110704T151535Z
UID:ATEvent-8abea684f67ae8995c3e671378eb2c57
LAST-MODIFIED:20110704T151542Z
SUMMARY:Becta's ICT Test Bed research
DTSTART:20020831T230000Z
DTEND:20060831T093500Z
DESCRIPTION:The ICT Test Bed project investigated how the sustained an
 d embedded use of ICT in learning spaces can improve learner outcomes\
 , classroom practice and institutional development. Uniquely\, the pro
 ject offered a longitudinal view of change in 30 schools and colleges 
 over a four year period.
URL:http://www.teachfind.com/becta/becta-research-research-ict-test-bed-evaluation-ict-test-bed-faqs-selection-test-bed-leas-0
CLASS:PUBLIC
END:VEVENT
END:VCALENDAR
