BEGIN:VCALENDAR
PRODID:-//AT Content Types//AT Event//EN
VERSION:2.0
METHOD:PUBLISH
BEGIN:VEVENT
DTSTAMP:20260420T074552Z
CREATED:20130802T014120Z
UID:ATEvent-72f5541c871743d797ea5cb45df825c6
LAST-MODIFIED:20130802T014256Z
SUMMARY:Association of Information Technology in Teacher Education
DTSTART:19860101T004000Z
DTEND:19860101T004000Z
DESCRIPTION:This organisation (ITTE) of lecturers involved in informat
 ion technology in teacher education departments of universities also a
 ttracted others from the schools sector in advisory\, inspection and r
 esearch rôles.
URL:http://www.itte.org.uk/
CLASS:PUBLIC
END:VEVENT
END:VCALENDAR
